BEGIN:VCALENDAR
VERSION:2.0
PRODID:-//ChamberMaster//Event Calendar 2.0//EN
METHOD:PUBLISH
X-PUBLISHED-TTL:P3D
REFRESH-INTERVAL:P3D
CALSCALE:GREGORIAN
BEGIN:VEVENT
DTSTART:20130603T150000Z
DTEND:20130628T160000Z
X-MICROSOFT-CDO-ALLDAYEVENT:FALSE
SUMMARY:Just 4 Fun Sports
DESCRIPTION:Mondays-Centennial Park\n\n	Wednesdays-Collins Park\n\n	Fridays -Dryden Park\n\n	 \n\n	TIME: 10-11AM \n\n	 \n\n	JUNE 3-28\, 2013 \n\n	 \n\n	HEY KIDS! THE Y IS BACK! \n\n	Just as it sounds\, we are playing sports for the fun of it! Grab your buddies and join us at these local parks for a variety of FREE exciting sports and ac-tivities such as: Kickball\, Dodgeball\, Wiffleball\, Capture the Flag\, Basketball\, Ultimate Frisbee\, and many more! Kids of all ages are welcome to join us for these fun activities on Monday\, Wednesday and Fridays. REGISTER TODAY or just meet us at these parks.
X-ALT-DESC;FMTTYPE=text/html:<p>\n	<span style="font-size: xx-large\;">Mondays-Centennial Park</span><br />\n	<span style="font-size: xx-large\;">Wednesdays-Collins Park</span></p>\n<p>\n	<font size="6">Fridays -Dryden Park</font></p>\n<p>\n	&nbsp\;</p>\n<p>\n	<font size="4">TIME: 10-11AM </font></p>\n<p>\n	&nbsp\;</p>\n<p>\n	<font size="4">JUNE 3-28\, 2013 </font></p>\n<p>\n	&nbsp\;</p>\n<p>\n	<font size="5">HEY KIDS! THE Y IS BACK! </font></p>\n<p>\n	<font size="4">Just as it sounds\, we are playing sports for the fun of it! Grab your buddies and join us at these local parks for a variety of FREE exciting sports and ac-tivities such as: Kickball\, Dodgeball\, Wiffleball\, Capture the Flag\, Basketball\, Ultimate Frisbee\, and many more! Kids of all ages are welcome to join us for these fun activities on Monday\, Wednesday and Fridays. REGISTER TODAY or just meet us at these parks. </font></p>\n
LOCATION:Mondays-Centennial Park Wednesdays-Collins Park Fridays -Dryden Park
UID:e.1404.3211
SEQUENCE:3
DTSTAMP:20260424T102249Z
URL:https://members.kearneycoc.org/events/details/just-4-fun-sports-06-03-2013-3211
END:VEVENT

END:VCALENDAR
