BEGIN:VCALENDAR
VERSION:2.0
PRODID:-//ChamberMaster//Event Calendar 2.0//EN
METHOD:PUBLISH
X-PUBLISHED-TTL:P3D
REFRESH-INTERVAL:P3D
CALSCALE:GREGORIAN
BEGIN:VEVENT
DTSTART:20140305T230000Z
DTEND:20140306T020000Z
X-MICROSOFT-CDO-ALLDAYEVENT:FALSE
SUMMARY:K-Girls Boutique & Beauty Bar- Ladies Night
DESCRIPTION:New Downtown Business Opening\n\nK-Girls Invites You to Ladies Night!\n\n$15 Custom Spray Tan Gift Cards \n\n20%-40% off Apparel & Handbags\n\nMakeup Tips\n\nFood & Drinks\n\nPrizes
X-ALT-DESC;FMTTYPE=text/html:New Downtown Business Opening<br />\nK-Girls Invites You to Ladies Night!<br />\n$15 Custom Spray Tan Gift Cards&nbsp\;<br />\n20%-40% off Apparel &amp\; Handbags<br />\nMakeup Tips<br />\nFood &amp\; Drinks<br />\nPrizes
LOCATION:2400 Central Ave Suite A
UID:e.1404.4527
SEQUENCE:3
DTSTAMP:20260423T164251Z
URL:https://members.kearneycoc.org/events/details/k-girls-boutique-beauty-bar-ladies-night-03-05-2014-4527
END:VEVENT

END:VCALENDAR
