BEGIN:VCALENDAR
VERSION:2.0
PRODID:-//ChamberMaster//Event Calendar 2.0//EN
METHOD:PUBLISH
X-PUBLISHED-TTL:P3D
REFRESH-INTERVAL:P3D
CALSCALE:GREGORIAN
BEGIN:VEVENT
DTSTART:20190918T170000Z
DTEND:20190918T180000Z
X-MICROSOFT-CDO-ALLDAYEVENT:FALSE
SUMMARY:KAAPA Coop Project Investor Meeting
DESCRIPTION:KAAP Coop invites Members to a value added investment opportunity September 18th. Terrace Ag is a software platform used to assist in improving farmland valuations by merging the appraisal process into one complete software package. Terrace Ag is focused on bringing efficiencies to certified general appraisers\, and plans to expand to agriculture lenders and public land valuators in the future.\n\n\n\nYounes Convention Center\n\nMeetings will be held at 12 Noon and 7:00 p.m. (please attend one meeting)\n\nLunch will be served at the Noon meeting and hors d'oeuvres provided at 7:00 pm
X-ALT-DESC;FMTTYPE=text/html:KAAP Coop invites Members to a value added investment opportunity&nbsp\;September 18th. Terrace Ag is a software platform used to assist in improving farmland valuations by merging the appraisal process into one complete software package. Terrace Ag is focused on bringing efficiencies to certified general appraisers\, and plans to expand to agriculture lenders and public land valuators in the future.<br />\n<br />\nYounes Convention Center<br />\nMeetings will be held at 12 Noon and 7:00 p.m. (please attend one meeting)<br />\nLunch will be served at the Noon meeting and hors d&#39\;oeuvres provided at 7:00 pm<br />\n&nbsp\;
LOCATION:Younes Convention Center Meetings will be held at 12 Noon and 7:00 p.m. (please attend one meeting) Lunch will be served at the Noon meeting and hors d'oeuvres provided at 7:00 pm
UID:e.1404.17875
SEQUENCE:3
DTSTAMP:20260425T181012Z
URL:https://members.kearneycoc.org/events/details/kaapa-coop-project-investor-meeting-17875
END:VEVENT

END:VCALENDAR
