BEGIN:VCALENDAR
VERSION:2.0
PRODID:-//ChamberMaster//Event Calendar 2.0//EN
METHOD:PUBLISH
X-PUBLISHED-TTL:P3D
REFRESH-INTERVAL:P3D
CALSCALE:GREGORIAN
BEGIN:VEVENT
DTSTART:20200120T233000Z
DTEND:20200121T030000Z
X-MICROSOFT-CDO-ALLDAYEVENT:FALSE
SUMMARY:KACC 101st Annual Meeting
DESCRIPTION:
X-ALT-DESC;FMTTYPE=text/html:
LOCATION:Younes Conference Center
UID:e.1404.15410
SEQUENCE:3
DTSTAMP:20260425T132907Z
URL:https://members.kearneycoc.org/events/details/kacc-101st-annual-meeting-15410
END:VEVENT

END:VCALENDAR
