BEGIN:VCALENDAR
VERSION:2.0
PRODID:-//ChamberMaster//Event Calendar 2.0//EN
METHOD:PUBLISH
X-PUBLISHED-TTL:P3D
REFRESH-INTERVAL:P3D
CALSCALE:GREGORIAN
BEGIN:VEVENT
DTSTART:20150126T233000Z
DTEND:20150127T030000Z
X-MICROSOFT-CDO-ALLDAYEVENT:FALSE
SUMMARY:KACC Annual Meeting
DESCRIPTION:About: \n\n\n\nThe Annual Meeting is an event for Chamber members and is an opportunity for everyone to celebrate the year's hard work and the dedication for the Kearney community. Each year we bring in a different speaker\, along with various auction items to bid on. This year\, we have the pleasure of having Shawn Eichorst\, Athletic Director of the University of Nebraska at Lincoln. This is also a ceremony to recognize the retiring board members as well as the new Chairman of the board.\n\n\n\nLocation: \n\nYounes Conference Center\n\n416 Talmadge Road\n\n\n\nDate & Time:\n\nMonday\, January 26th\n\n5:30 PM - Social\n\n6:30 PM - Dinner\n\n7:30 PM - Speaker\n\n8:00 PM - Awards \n\n\n\nTickets:\n\nSingle Ticket - $50\n\nTable of 10 - $500\n\n\n\nFor more information\, contact the Chamber (308) 237-3101.\n\n\n\n*Please note that this event is for Kearney Area Chamber Members and their invited guests.  For further information on membership\, or joining us as a guest\, please call our office at 237-3101.
X-ALT-DESC;FMTTYPE=text/html:<strong>About: </strong><br />\n<br />\nThe Annual Meeting is an event for Chamber members and is an opportunity&nbsp\;for everyone to celebrate the year&#39\;s hard work and the dedication for the Kearney community. Each year we bring in a different speaker\, along with various auction items to bid on. This year\, we have the pleasure of having Shawn Eichorst\, Athletic Director of the University of Nebraska at Lincoln.&nbsp\;This is also a ceremony to recognize the retiring board members as well as the new Chairman of the board.<br />\n<br />\n<strong>Location: </strong><br />\nYounes Conference Center<br />\n416 Talmadge Road<br />\n<br />\n<strong>Date &amp\; Time:</strong><br />\nMonday\, January 26th<br />\n5:30 PM - Social<br />\n6:30 PM - Dinner<br />\n7:30 PM - Speaker<br />\n8:00 PM - Awards&nbsp\;<br />\n<br />\n<strong>Tickets:</strong><br />\nSingle Ticket - $50<br />\nTable of 10 - $500<br />\n<br />\nFor more information\, contact the Chamber (308) 237-3101.<br />\n<br />\n<span style="color:#1F497D\;"><span style="font-size:9px\;">*Please note that this event is for Kearney Area Chamber Members and their invited guests.&nbsp\; For further information on membership\, or joining us as a guest\, please call our office at 237-3101.</span></span><br />\n<br />\n<br />\n<br />\n&nbsp\;
LOCATION:
UID:e.1404.3792
SEQUENCE:3
DTSTAMP:20260422T230258Z
URL:https://members.kearneycoc.org/events/details/kacc-annual-meeting-01-26-2015-3792
END:VEVENT

END:VCALENDAR
