BEGIN:VCALENDAR
VERSION:2.0
PRODID:-//ChamberMaster//Event Calendar 2.0//EN
METHOD:PUBLISH
X-PUBLISHED-TTL:P3D
REFRESH-INTERVAL:P3D
CALSCALE:GREGORIAN
BEGIN:VEVENT
DTSTART:20141022T140000Z
DTEND:20141022T170000Z
X-MICROSOFT-CDO-ALLDAYEVENT:FALSE
SUMMARY:KACC Career Exploration Day
DESCRIPTION:Career Exploration Day sponsored by the Nebraska National Guard and the Kearney Area Chamber of Commerce\, Education and Leadership Committee. Businesses and colleges from all over the state will be on display for students to explore all types of careers. Students will have the opportunity to participate in a variety of hands-on / interactive activities and gather information. Career fields such as agriculture\, construction\, manufacturing\, health sciences\, human services\, education\, transportation\, legal and law enforcement services\, sales and marketing and entrepreneurship\, will be represented. Demonstrators will explain the skills\, training requirements\, wage range\, and satisfaction found in their careers. Students will also be able to investigate colleges and universities that provide the training needed to be successful in their fields of interest.\n\n\n\nNational Guard Armory\n\n5710 Airport Rd\n\nKearney\, NE\n\n\n\nOctober 22\, 2014\n\n9:00 am - 12:00 pm
X-ALT-DESC;FMTTYPE=text/html:Career Exploration Day sponsored by the Nebraska National Guard and the Kearney Area Chamber of Commerce\, Education and Leadership Committee.&nbsp\;Businesses and colleges from all over the state will be on display for students to explore all types of careers. Students will have the opportunity to participate in a variety of hands-on / interactive activities and gather information. Career fields such as agriculture\, construction\, manufacturing\, health sciences\, human services\, education\, transportation\, legal and law enforcement services\, sales and marketing and entrepreneurship\, will be represented. Demonstrators will explain the skills\, training requirements\, wage range\, and satisfaction found in their careers. Students will also be able to investigate colleges and universities that provide the training needed to be successful in their fields of interest.<br />\n<br />\nNational Guard Armory<br />\n5710 Airport Rd<br />\nKearney\, NE<br />\n<br />\n<span style="color: rgb(51\, 51\, 51)\; font-family: sans-serif\, Arial\, Verdana\, 'Trebuchet MS'\; font-size: 13px\; line-height: 20.799999237060547px\; background-color: rgb(255\, 255\, 255)\;">October 22\, 2014</span><br style="color: rgb(51\, 51\, 51)\; font-family: sans-serif\, Arial\, Verdana\, 'Trebuchet MS'\; font-size: 13px\; line-height: 20.799999237060547px\;" />\n<span style="color: rgb(51\, 51\, 51)\; font-family: sans-serif\, Arial\, Verdana\, 'Trebuchet MS'\; font-size: 13px\; line-height: 20.799999237060547px\; background-color: rgb(255\, 255\, 255)\;">9:00 am - 12:00 pm</span><br />\n<br />\n&nbsp\;
LOCATION:National Guard Armory 5710 Airport Rd Kearney\, NE
UID:e.1404.5304
SEQUENCE:3
DTSTAMP:20260423T051323Z
URL:https://members.kearneycoc.org/events/details/kacc-career-exploration-day-10-22-2014-5304
END:VEVENT

END:VCALENDAR
