BEGIN:VCALENDAR
VERSION:2.0
PRODID:-//ChamberMaster//Event Calendar 2.0//EN
METHOD:PUBLISH
X-PUBLISHED-TTL:P3D
REFRESH-INTERVAL:P3D
CALSCALE:GREGORIAN
BEGIN:VEVENT
DTSTART;VALUE=DATE:20160610
DTEND;VALUE=DATE:20160611
TRANSP:TRANSPARENT
X-MICROSOFT-CDO-ALLDAYEVENT:TRUE
SUMMARY:KACC Golf Classic
DESCRIPTION:The Kearney Area Chamber of Commerce is excited about this annual golfing event! Join us this year at Meadowlark Hills for the tournament\, on Friday\, June 10th.  Registration begins at 10am followed by the tee-off at 11:30.  Stop in the clubhouse for lunch\, and be sure to stay for the awards reception at the end of the day. Hope to see you for some start-of-summer fun!
X-ALT-DESC;FMTTYPE=text/html:<span style="color: rgb(34\, 34\, 34)\; font-family: HelveticaNeueW01-55Roma\; font-size: 18px\; line-height: 24px\;">The Kearney Area Chamber of Commerce is excited about this annual golfing event! Join us this year at Meadowlark Hills&nbsp\;for the tournament\, on Friday\, June 10th. &nbsp\;Registration begins at 10am followed by the tee-off at 11:30. &nbsp\;Stop in the clubhouse for lunch\, and be sure to stay for the awards reception at the end of the day. Hope to see you for some start-of-summer fun!</span>
LOCATION:Meadowlark Hills Golf Course Kearney\, NE
UID:e.1404.7079
SEQUENCE:3
DTSTAMP:20260421T201453Z
URL:https://members.kearneycoc.org/events/details/kacc-golf-classic-06-10-2016-7079
END:VEVENT

END:VCALENDAR
