BEGIN:VCALENDAR
VERSION:2.0
PRODID:-//ChamberMaster//Event Calendar 2.0//EN
METHOD:PUBLISH
X-PUBLISHED-TTL:P3D
REFRESH-INTERVAL:P3D
CALSCALE:GREGORIAN
BEGIN:VEVENT
DTSTART:20191212T230000Z
DTEND:20191213T020000Z
X-MICROSOFT-CDO-ALLDAYEVENT:FALSE
SUMMARY:KACC Holiday Reception
DESCRIPTION:
X-ALT-DESC;FMTTYPE=text/html:
LOCATION:Ramada 301 Central Ave
UID:e.1404.15450
SEQUENCE:3
DTSTAMP:20260425T132121Z
URL:https://members.kearneycoc.org/events/details/kacc-holiday-reception-15450
END:VEVENT

END:VCALENDAR
