BEGIN:VCALENDAR
VERSION:2.0
PRODID:-//ChamberMaster//Event Calendar 2.0//EN
METHOD:PUBLISH
X-PUBLISHED-TTL:P3D
REFRESH-INTERVAL:P3D
CALSCALE:GREGORIAN
BEGIN:VEVENT
DTSTART:20140718T010000Z
DTEND:20140718T030000Z
X-MICROSOFT-CDO-ALLDAYEVENT:FALSE
SUMMARY:Kahuna Beach Party
DESCRIPTION:Kahuna Beach Party is a musical celebration of the Beach Boys\, a light-hearted tribute to the fun and optimistic feeling of the early 1960s. A time of relaxing days spent at the beach\, surfboards\, fast cars\, and the promise of perpetual youth and beauty. Although so much has changed since then\, this fast paced interactive show lets us relive that feeling for a couple hours.
X-ALT-DESC;FMTTYPE=text/html:Kahuna Beach Party is a musical celebration of the Beach Boys\, a light-hearted tribute to the fun and optimistic feeling of the early 1960s. A time of relaxing days spent at the beach\, surfboards\, fast cars\, and the promise of perpetual youth and beauty. Although so much has changed since then\, this fast paced interactive show lets us relive that feeling for a couple hours.
LOCATION:Merryman Performing Arts Center
UID:e.1404.4700
SEQUENCE:3
DTSTAMP:20260423T101309Z
URL:https://members.kearneycoc.org/events/details/kahuna-beach-party-07-17-2014-4700
END:VEVENT

END:VCALENDAR
