BEGIN:VCALENDAR
VERSION:2.0
PRODID:-//ChamberMaster//Event Calendar 2.0//EN
METHOD:PUBLISH
X-PUBLISHED-TTL:P3D
REFRESH-INTERVAL:P3D
CALSCALE:GREGORIAN
BEGIN:VEVENT
DTSTART:20191101T003000Z
DTEND:20191101T013000Z
X-MICROSOFT-CDO-ALLDAYEVENT:FALSE
SUMMARY:KAPE Concert
DESCRIPTION:Come 'Join in the Music' as the Kearney Area Percussion Ensemble (KAPE) performs their first concert of the year. KAPE is an ensemble made up of percussionists from Kearney and surrounding areas. This concert will be live streamed at the following link: http://www.unk.edu/academics/music/performing-art-live-stream-events.php
X-ALT-DESC;FMTTYPE=text/html:Come &#39\;Join in the Music&#39\; as the Kearney Area Percussion Ensemble (KAPE) performs their first concert of the year. KAPE is an ensemble made up of percussionists from Kearney and surrounding areas. This concert will be live streamed at the following link: http://www.unk.edu/academics/music/performing-art-live-stream-events.php
LOCATION:UNK FAB Recital Hall
UID:e.1404.16629
SEQUENCE:3
DTSTAMP:20260425T163713Z
URL:https://members.kearneycoc.org/events/details/kape-concert-16629
END:VEVENT

END:VCALENDAR
