BEGIN:VCALENDAR
VERSION:2.0
PRODID:-//ChamberMaster//Event Calendar 2.0//EN
METHOD:PUBLISH
X-PUBLISHED-TTL:P3D
REFRESH-INTERVAL:P3D
CALSCALE:GREGORIAN
BEGIN:VEVENT
DTSTART:20160507T150000Z
DTEND:20160507T170000Z
X-MICROSOFT-CDO-ALLDAYEVENT:FALSE
SUMMARY:Kaw Valley Hilltop Mall Mother's Day Garden Event
DESCRIPTION:Hilltop Mall and Kaw Valley Greenhouse want to invite children 12 and under to plant a flower for mom! This free event will be located at Kaw Valley in the Hilltop Mall parking lot. In case of inclement weather it will be held in Center Court.
X-ALT-DESC;FMTTYPE=text/html:Hilltop Mall and Kaw Valley Greenhouse want to invite children 12 and under to plant a flower for mom! This free event will be located at Kaw Valley in the Hilltop Mall parking lot. In case of inclement weather it will be held in Center Court.
LOCATION:Kaw Valley in Hilltop Mall Parking Lot
UID:e.1404.8716
SEQUENCE:3
DTSTAMP:20260421T220128Z
URL:https://members.kearneycoc.org/events/details/kaw-valley-hilltop-mall-mother-s-day-garden-event-05-07-2016-8716
END:VEVENT

END:VCALENDAR
