BEGIN:VCALENDAR
VERSION:2.0
PRODID:-//ChamberMaster//Event Calendar 2.0//EN
METHOD:PUBLISH
X-PUBLISHED-TTL:P3D
REFRESH-INTERVAL:P3D
CALSCALE:GREGORIAN
BEGIN:VEVENT
DTSTART:20150214T000000Z
DTEND:20150214T050000Z
X-MICROSOFT-CDO-ALLDAYEVENT:FALSE
SUMMARY:KCHS Activities Valentine's Night Out
DESCRIPTION:25th Annual Dinner and Fund-Raiser to benefit KCHS Activities! The night includes a buffet dinner\, silent and live auctions\, casino night\, bingo\, raffle prizes\, and a $1\,000 GRAND PRIZE DRAWING! Tickets are $35 each and include entry into the $1\,000 drawing. Can't make it\, but still want to support the students? Donate your meal ticket to a priest\, sister\, teacher or someone else and we will still enter you for the grand prize! (need not be present to win).
X-ALT-DESC;FMTTYPE=text/html:25th Annual Dinner and Fund-Raiser to benefit KCHS Activities! The night includes a buffet dinner\, silent and live auctions\, casino night\, bingo\, raffle prizes\, and a $1\,000 GRAND PRIZE DRAWING! Tickets are $35 each and include entry into the $1\,000 drawing. Can&#39\;t make it\, but still want to support the students? Donate your meal ticket to a priest\, sister\, teacher or someone else and we will still enter you for the grand prize! (need not be present to win).
LOCATION:Younes Conference Center 416 W Talmadge Kearney\, NE 68845
UID:e.1404.5986
SEQUENCE:3
DTSTAMP:20260422T212429Z
URL:https://members.kearneycoc.org/events/details/kchs-activities-valentine-s-night-out-02-13-2015-5986
END:VEVENT

END:VCALENDAR
