BEGIN:VCALENDAR
VERSION:2.0
PRODID:-//ChamberMaster//Event Calendar 2.0//EN
METHOD:PUBLISH
X-PUBLISHED-TTL:P3D
REFRESH-INTERVAL:P3D
CALSCALE:GREGORIAN
BEGIN:VEVENT
DTSTART:20160514T160000Z
DTEND:20160514T190000Z
X-MICROSOFT-CDO-ALLDAYEVENT:FALSE
SUMMARY:Kearney Area Animal Shelter-10 Year Anniversary Open House
DESCRIPTION:Come help us celebrate 10 years of housing the homeless and saving the abandoned companion animals in Buffalo County. We are having lunch served by NebraskaLand National Bank for a free-will donation from 11:00am-2:00pm on Saturday May 14th. We have adopted out over 7200 animals since 2006 and we would love to see as many "Alumni" animals stop out and say "Hello" as possible! We will have a photo-booth set up for pets and their people! We would love for everyone to help us celebrate our 10-year anniversary!
X-ALT-DESC;FMTTYPE=text/html:<strong>Come help us celebrate 10 years of housing the homeless and saving the abandoned companion animals in Buffalo County. We are having lunch served by NebraskaLand National Bank for a free-will donation from 11:00am-2:00pm on Saturday May 14th. We have adopted out over 7200 animals since 2006 and we would love to see as many &quot\;Alumni&quot\; animals stop out and say &quot\;Hello&quot\; as possible! We will have a photo-booth set up for pets and their people! We would love for everyone to help us celebrate our 10-year anniversary! </strong>
LOCATION:Kearney Area Animal Shelter 3205 W Hwy 30 Kearney\, NE 68845
UID:e.1404.8712
SEQUENCE:3
DTSTAMP:20260421T202938Z
URL:https://members.kearneycoc.org/events/details/kearney-area-animal-shelter-10-year-anniversary-open-house-05-14-2016-8712
END:VEVENT

END:VCALENDAR
