BEGIN:VCALENDAR
VERSION:2.0
PRODID:-//ChamberMaster//Event Calendar 2.0//EN
METHOD:PUBLISH
X-PUBLISHED-TTL:P3D
REFRESH-INTERVAL:P3D
CALSCALE:GREGORIAN
BEGIN:VEVENT
DTSTART:20191025T233000Z
DTEND:20191026T023000Z
X-MICROSOFT-CDO-ALLDAYEVENT:FALSE
SUMMARY:Kearney Area Animal Shelter Moonlight Masquerade 2019
DESCRIPTION:KAAS' Board of Directors invites you to the Third Annual Moonlight Masquerade Gala at the Ramada Inn. This is our biggest fundraiser of the year. This year's event will include a wine pull\, a silent auction and raffle items\, a photo booth\, and caricatures. We will also have a full bar and heavy hors d'oeuvres! There will also be a "Save the Tails" Auction of cat and dog statues that can be viewed at area businesses a month prior to the event. The OK Sisters and Friends will be performing live at the event. Tickets are $50 and can be purchased at the Shelter or by calling KAAS at (308) 237-7387.
X-ALT-DESC;FMTTYPE=text/html:<span style="color: rgb(29\, 33\, 41)\; font-family: Helvetica\, Arial\, sans-serif\; font-size: 14px\; white-space: pre-wrap\;">KAAS&#39\; Board of Directors invites you to the Third Annual Moonlight Masquerade Gala at the Ramada Inn. This is our biggest fundraiser of the year. This year&rsquo\;s event will include a wine pull\, a silent auction and raffle items\, a photo booth\, and caricatures. We will also have a full bar and heavy hors d&rsquo\;oeuvres! There will also be a &quot\;Save the Tails&quot\; Auction of cat and dog statues that can be viewed at area businesses a month prior to the event. The OK Sisters and Friends will be performing live at the event. Tickets are $50 and can be purchased at the Shelter or by calling KAAS at (308) 237-7387.</span>
LOCATION:Ramada Inn
UID:e.1404.17928
SEQUENCE:3
DTSTAMP:20260425T164155Z
URL:https://members.kearneycoc.org/events/details/kearney-area-animal-shelter-moonlight-masquerade-2019-17928
END:VEVENT

END:VCALENDAR
