BEGIN:VCALENDAR
VERSION:2.0
PRODID:-//ChamberMaster//Event Calendar 2.0//EN
METHOD:PUBLISH
X-PUBLISHED-TTL:P3D
REFRESH-INTERVAL:P3D
CALSCALE:GREGORIAN
BEGIN:VEVENT
DTSTART:20211130T000000Z
DTEND:20211130T010000Z
X-MICROSOFT-CDO-ALLDAYEVENT:FALSE
SUMMARY:Kearney Area Habitat for Humanity: Kussman Family Home Dedication
DESCRIPTION:Kearney Area Habitat for Humanity will be having the Kussman Family Home Dedication at 1407 E. 17th Street in Kearney.
X-ALT-DESC;FMTTYPE=text/html:Kearney Area Habitat for Humanity will be having the Kussman Family Home Dedication at 1407 E. 17th Street in Kearney.
LOCATION:1407 E. 17th Street in Kearney.
UID:e.1404.19463
SEQUENCE:3
DTSTAMP:20260423T215159Z
URL:https://members.kearneycoc.org/events/details/kearney-area-habitat-for-humanity-kussman-family-home-dedication-19463
END:VEVENT

END:VCALENDAR
