BEGIN:VCALENDAR
VERSION:2.0
PRODID:-//ChamberMaster//Event Calendar 2.0//EN
METHOD:PUBLISH
X-PUBLISHED-TTL:P3D
REFRESH-INTERVAL:P3D
CALSCALE:GREGORIAN
BEGIN:VEVENT
DTSTART:20211217T000000Z
DTEND:20211217T010000Z
X-MICROSOFT-CDO-ALLDAYEVENT:FALSE
SUMMARY:Kearney Area Habitat for Humanity: Lopez Agustin Family Home Dedication
DESCRIPTION:The Kearney Area Habitat for Humanity would like to invite the public to the Dedication of the Lopez Agustin Family Home at 1409 E. 17th Street in Kearney.
X-ALT-DESC;FMTTYPE=text/html:The Kearney Area Habitat for Humanity would like to invite the public to the Dedication of the Lopez Agustin Family Home at 1409 E. 17th Street in Kearney.
LOCATION:1409 E. 17th Street in Kearney.
UID:e.1404.19465
SEQUENCE:3
DTSTAMP:20260423T195820Z
URL:https://members.kearneycoc.org/events/details/kearney-area-habitat-for-humanity-lopez-agustin-family-home-dedication-19465
END:VEVENT

END:VCALENDAR
