BEGIN:VCALENDAR
VERSION:2.0
PRODID:-//ChamberMaster//Event Calendar 2.0//EN
METHOD:PUBLISH
X-PUBLISHED-TTL:P3D
REFRESH-INTERVAL:P3D
CALSCALE:GREGORIAN
BEGIN:VEVENT
DTSTART:20160227T180000Z
DTEND:20160227T230000Z
X-MICROSOFT-CDO-ALLDAYEVENT:FALSE
SUMMARY:Kearney Area Prom Showcase
DESCRIPTION:Shop all the latest prom trends at Hilltop Mall! Let Hilltop Mall make your prom shopping easier this year with the Kearney Area Prom Showcase. Local shops in the Kearney area as well as Hilltop Mall stores will be showcasing all the latest prom products this prom season. Find dresses\, shoes\, jewelry and more! This event on February 27th from 12pm-5:00pm is a special opportunity to shop prom in one place. Prom shopping is fun\, convenient\, and affordable all at the Kearney Area Prom Showcase. Shop Prom trends all season\, official Kearney Area Prom Showcase is one day only. Kearney area businesses are invited to setup in the mall to showcase their prom related merchandise or services. Interested vendors should call the management office or email Lizzie Wheatley at lwheatley@dp-mgmt.com. For more information please visit our website at www.shophilltopmall.com or call the Mall Management Office at 308.236.9798.
X-ALT-DESC;FMTTYPE=text/html:Shop all the latest prom trends at Hilltop Mall! Let Hilltop Mall make your prom shopping easier this year with the Kearney Area Prom Showcase. Local shops in the Kearney area as well as Hilltop Mall stores will be showcasing all the latest prom products this prom season. Find dresses\, shoes\, jewelry and more! This event on February 27th from 12pm-5:00pm is a special opportunity to shop prom in one place. Prom shopping is fun\, convenient\, and affordable all at the Kearney Area Prom Showcase. Shop Prom trends all season\, official Kearney Area Prom Showcase is one day only. Kearney area businesses are invited to setup in the mall to showcase their prom related merchandise or services. Interested vendors should call the management office or email Lizzie Wheatley at lwheatley@dp-mgmt.com. For more information please visit our website at www.shophilltopmall.com or call the Mall Management Office at 308.236.9798.
LOCATION:Hilltop Mall 5011 2nd Ave Kearney\, NE 68847
UID:e.1404.7511
SEQUENCE:3
DTSTAMP:20260422T012221Z
URL:https://members.kearneycoc.org/events/details/kearney-area-prom-showcase-02-27-2016-7511
END:VEVENT

END:VCALENDAR
