BEGIN:VCALENDAR
VERSION:2.0
PRODID:-//ChamberMaster//Event Calendar 2.0//EN
METHOD:PUBLISH
X-PUBLISHED-TTL:P3D
REFRESH-INTERVAL:P3D
CALSCALE:GREGORIAN
BEGIN:VEVENT
DTSTART:20120706T223000Z
DTEND:20120707T000000Z
X-MICROSOFT-CDO-ALLDAYEVENT:FALSE
SUMMARY:Kearney Area Young Professional's Network - First Friday Event
DESCRIPTION:The Kearney Area Young Professional Network's (YPN) First Friday Events are designed to meet and great existing members\, as well as welcome in potential new members. There is no entry fee to this event.\n\n	If you're in the mood to meet some other young professionals in Kearney\, Nebraska\, please join us this Friday (07-06-2012) at Jersey's Sports Bar & Grill.\n\n	Our get together starts at 5:30pm and we'll be meeting until 7:00pm. :)\n\n	Jersey's has prepared some drink specials and snacks for us and YPN is buying the first round of drinks for their current YPN Members. If you want to be treated like a rockstar in the future (and being more active in the local professional community)\, consider test driving YPN this Friday!\n\n	If you have any additional questions\, please feel free to contact us at our facebook page (https://www.facebook.com/kearneyypn) or on our website (http://kearneycoc.org/YPN/AboutUs.aspx).
X-ALT-DESC;FMTTYPE=text/html:<p style="margin: 0px 0px 1.2em\; padding: 0px\; border: 0px\; outline: 0px\; vertical-align: baseline\; background-color: rgb(252\, 244\, 232)\; color: rgb(65\, 75\, 82)\; font-family: Arial\, serif\; line-height: 20px\; ">\n	The Kearney Area Young Professional Network&rsquo\;s (YPN) First Friday Events are designed to meet and great existing members\, as well as welcome in potential new members.&nbsp\;<span style="margin: 0px\; padding: 0px\; border: 0px\; outline: 0px\; vertical-align: baseline\; background-color: transparent\; text-decoration: underline\; "><strong style="margin: 0px\; padding: 0px\; border: 0px\; outline: 0px\; vertical-align: baseline\; background-color: transparent\; ">There is no entry fee to this event.</strong></span></p>\n<p style="margin: 0px 0px 1.2em\; padding: 0px\; border: 0px\; outline: 0px\; vertical-align: baseline\; background-color: rgb(252\, 244\, 232)\; color: rgb(65\, 75\, 82)\; font-family: Arial\, serif\; line-height: 20px\; ">\n	If you&rsquo\;re in the mood to meet some other young professionals in Kearney\, Nebraska\, please join us this Friday (07-06-2012) at Jersey&rsquo\;s Sports Bar &amp\; Grill.<br />\n	Our get together starts at 5:30pm and we&rsquo\;ll be meeting until 7:00pm. :)</p>\n<p style="margin: 0px 0px 1.2em\; padding: 0px\; border: 0px\; outline: 0px\; vertical-align: baseline\; background-color: rgb(252\, 244\, 232)\; color: rgb(65\, 75\, 82)\; font-family: Arial\, serif\; line-height: 20px\; ">\n	Jersey&rsquo\;s has prepared some drink specials and snacks for us and YPN is buying the first round of drinks for their current YPN Members. If you want to be treated like a rockstar in the future (and being more active in the local professional community)\, consider test driving YPN this Friday!</p>\n<p style="margin: 0px 0px 1.2em\; padding: 0px\; border: 0px\; outline: 0px\; vertical-align: baseline\; background-color: rgb(252\, 244\, 232)\; color: rgb(65\, 75\, 82)\; font-family: Arial\, serif\; line-height: 20px\; ">\n	If you have any additional questions\, please feel free to contact us at our&nbsp\;<a href="https://www.facebook.com/kearneyypn" rel="nofollow" style="margin: 0px\; padding: 0px\; vertical-align: baseline\; background-color: transparent\; color: rgb(160\, 27\, 22)\; text-decoration: none\; -webkit-tap-highlight-color: rgb(255\, 94\, 153)\; " target="_blank" title="YPN's Facebook Page">facebook page (https://www.facebook.com/kearneyypn)</a>&nbsp\;or on&nbsp\;<a href="http://kearneycoc.org/YPN/AboutUs.aspx" rel="nofollow" style="margin: 0px\; padding: 0px\; vertical-align: baseline\; background-color: transparent\; color: rgb(160\, 27\, 22)\; text-decoration: none\; -webkit-tap-highlight-color: rgb(255\, 94\, 153)\; " target="_blank" title="YPN's Web Page">our website (http://kearneycoc.org/YPN/AboutUs.aspx)</a>.</p>\n
LOCATION:Jersey's Sports Bar & Grill - 5012 3rd Ave # 190\, Kearney\, NE
UID:e.1404.1947
SEQUENCE:3
DTSTAMP:20260425T033122Z
URL:https://members.kearneycoc.org/events/details/kearney-area-young-professional-s-network-first-friday-event-07-06-2012-1947
END:VEVENT

END:VCALENDAR
