BEGIN:VCALENDAR
VERSION:2.0
PRODID:-//ChamberMaster//Event Calendar 2.0//EN
METHOD:PUBLISH
X-PUBLISHED-TTL:P3D
REFRESH-INTERVAL:P3D
CALSCALE:GREGORIAN
BEGIN:VEVENT
DTSTART:20210526T150000Z
DTEND:20210526T230000Z
X-MICROSOFT-CDO-ALLDAYEVENT:FALSE
SUMMARY:Kearney Cabela's Retail Job Fair
DESCRIPTION:Cabela's Retail Job Fair: We are currently hiring for a variety of FT/PT positions. Benefits Include: Generous Employee Discount\, Medical\, Dental\, Vision\, PTO\, 401(k) Match (after 1 yr of service).
X-ALT-DESC;FMTTYPE=text/html:Cabela&#39\;s Retail Job Fair: We are currently hiring for a variety of FT/PT positions. Benefits Include: Generous Employee Discount\, Medical\, Dental\, Vision\, PTO\, 401(k) Match (after 1 yr of service).
LOCATION:Kearney Cabela's 3600 Hwy 30 E Kearney\, NE 68847
UID:e.1404.19315
SEQUENCE:3
DTSTAMP:20260424T081441Z
URL:https://members.kearneycoc.org/events/details/kearney-cabela-s-retail-job-fair-19315
END:VEVENT

END:VCALENDAR
