BEGIN:VCALENDAR
VERSION:2.0
PRODID:-//ChamberMaster//Event Calendar 2.0//EN
METHOD:PUBLISH
X-PUBLISHED-TTL:P3D
REFRESH-INTERVAL:P3D
CALSCALE:GREGORIAN
BEGIN:VEVENT
DTSTART:20260310T210000Z
DTEND:20260310T230000Z
X-MICROSOFT-CDO-ALLDAYEVENT:FALSE
SUMMARY:Kearney Cancer Center Meet and Greet
DESCRIPTION:We're excited to invite you to a Meet & Greet at the Kearney Cancer Center on March 10\, from 4 6 pm in Kearney. Come connect with our team\, explore the space\, and learn more about the services and support we're bringing to the community. This is a great opportunity to meet the people behind the care and see how we're working to make comprehensive cancer services more accessible for Central Nebraska. We hope you can join us
X-ALT-DESC;FMTTYPE=text/html:We&rsquo\;re excited to invite you to a Meet &amp\; Greet at the Kearney Cancer Center on March 10\, from 4&ndash\;6 pm in Kearney. Come connect with our team\, explore the space\, and learn more about the services and support we&rsquo\;re bringing to the community. This is a great opportunity to meet the people behind the care and see how we&rsquo\;re working to make comprehensive cancer services more accessible for Central Nebraska. We hope you can join us
LOCATION:Kearney Cancer Center\, between Yanney Park and Kearney Regional Medical Center
UID:e.1404.26194
SEQUENCE:3
DTSTAMP:20260426T043733Z
URL:https://members.kearneycoc.org/events/details/kearney-cancer-center-meet-and-greet-26194
END:VEVENT

END:VCALENDAR
