BEGIN:VCALENDAR
VERSION:2.0
PRODID:-//ChamberMaster//Event Calendar 2.0//EN
METHOD:PUBLISH
X-PUBLISHED-TTL:P3D
REFRESH-INTERVAL:P3D
CALSCALE:GREGORIAN
BEGIN:VEVENT
DTSTART:20131212T230000Z
DTEND:20131213T020000Z
X-MICROSOFT-CDO-ALLDAYEVENT:FALSE
SUMMARY:Kearney Chamber Holiday Reception
DESCRIPTION:Please join us as we celebrate the holidays and another great year at the Chamber!
X-ALT-DESC;FMTTYPE=text/html:<span style="font-family:tahoma\;">Please join us as we celebrate the holidays and another great year at the Chamber!</span>
LOCATION:Great Platte River Road Archway 3060 E 1st Street
UID:e.1404.3308
SEQUENCE:3
DTSTAMP:20260423T212758Z
URL:https://members.kearneycoc.org/events/details/kearney-chamber-holiday-reception-12-12-2013-3308
END:VEVENT

END:VCALENDAR
