BEGIN:VCALENDAR
VERSION:2.0
PRODID:-//ChamberMaster//Event Calendar 2.0//EN
METHOD:PUBLISH
X-PUBLISHED-TTL:P3D
REFRESH-INTERVAL:P3D
CALSCALE:GREGORIAN
BEGIN:VEVENT
DTSTART:20191004T003000Z
DTEND:20191013T210000Z
X-MICROSOFT-CDO-ALLDAYEVENT:FALSE
SUMMARY:Kearney Community Theatre presents BAREFOOT IN THE PARK
DESCRIPTION:Barefoot in the Park By Neil Simon Paul and Corie Bratter are newlyweds in every sense of the word. He's a straight-as-an-arrow lawyer and she's a free spirit always looking for the latest buzz. After a six-day honeymoon\, they get a surprise visit from Corie's loopy mother and decide to play matchmaker during a dinner with their neighbor-in-the-attic\, Velasco\, where everything that can go wrong\, does. Suitable for older youth and adults.
X-ALT-DESC;FMTTYPE=text/html:Barefoot in the Park By Neil Simon Paul and Corie Bratter are newlyweds in every sense of the word. He&rsquo\;s a straight-as-an-arrow lawyer and she&rsquo\;s a free spirit always looking for the latest buzz. After a six-day honeymoon\, they get a surprise visit from Corie&rsquo\;s loopy mother and decide to play matchmaker during a dinner with their neighbor-in-the-attic\, Velasco\, where everything that can go wrong\, does. Suitable for older youth and adults.
LOCATION:Kearney Community Theatre 83 Plaza Blvd. Kearney\, NE 68845
UID:e.1404.17901
SEQUENCE:3
DTSTAMP:20260425T164242Z
URL:https://members.kearneycoc.org/events/details/kearney-community-theatre-presents-barefoot-in-the-park-17901
END:VEVENT

END:VCALENDAR
