BEGIN:VCALENDAR
VERSION:2.0
PRODID:-//ChamberMaster//Event Calendar 2.0//EN
METHOD:PUBLISH
X-PUBLISHED-TTL:P3D
REFRESH-INTERVAL:P3D
CALSCALE:GREGORIAN
BEGIN:VEVENT
DTSTART:20130725T170000Z
DTEND:20130727T170000Z
X-MICROSOFT-CDO-ALLDAYEVENT:FALSE
SUMMARY:Kearney Community Theatre Presents "Camelot"
DESCRIPTION:"Camelot"
X-ALT-DESC;FMTTYPE=text/html:&quot\;Camelot&quot\;
LOCATION:Kearney Community Theatre 83 Plaza Blvd Kearney\, Ne
UID:e.1404.3243
SEQUENCE:3
DTSTAMP:20260424T060952Z
URL:https://members.kearneycoc.org/events/details/kearney-community-theatre-presents-camelot-07-25-2013-3243
END:VEVENT

END:VCALENDAR
