BEGIN:VCALENDAR
VERSION:2.0
PRODID:-//ChamberMaster//Event Calendar 2.0//EN
METHOD:PUBLISH
X-PUBLISHED-TTL:P3D
REFRESH-INTERVAL:P3D
CALSCALE:GREGORIAN
BEGIN:VEVENT
DTSTART:20150503T190000Z
DTEND:20150503T211500Z
X-MICROSOFT-CDO-ALLDAYEVENT:FALSE
SUMMARY:Kearney Community Theatre presents: "Steel Magnolias"
DESCRIPTION:In the world of Truvy's local-homegrown beauty salon\,six very different women come together to share their secrets\, fears\, and love for one another while engaging in hysterical and neighborly gossip. When tragedy strikes\, it is in the familiar comfort of Truvy's salon where they seek the solace and support that carries them through.
X-ALT-DESC;FMTTYPE=text/html:In the world of Truvy&#39\;s local-homegrown beauty salon\,six very different women come together to share their secrets\, fears\, and love for one another while engaging in hysterical and neighborly gossip. When tragedy strikes\, it is in the familiar comfort of Truvy&#39\;s salon where they seek the solace and support that carries them through.
LOCATION:Kearney Community Theatre\, 83 Plaza Boulevard - Kearney\, NE 68845
UID:e.1404.6204
SEQUENCE:3
DTSTAMP:20260422T165435Z
URL:https://members.kearneycoc.org/events/details/kearney-community-theatre-presents-steel-magnolias-05-03-2015-6204
END:VEVENT

END:VCALENDAR
