BEGIN:VCALENDAR
VERSION:2.0
PRODID:-//ChamberMaster//Event Calendar 2.0//EN
METHOD:PUBLISH
X-PUBLISHED-TTL:P3D
REFRESH-INTERVAL:P3D
CALSCALE:GREGORIAN
BEGIN:VEVENT
DTSTART:20160422T003000Z
DTEND:20160501T030000Z
X-MICROSOFT-CDO-ALLDAYEVENT:FALSE
SUMMARY:Kearney Community Theatre presents: "To Kill a Mockingbird"
DESCRIPTION:Racial injustice envelops a small-town community in the Deep South. Through courage and compassion\, lawyer Atticus Finch seeks the truth\, and his feisty daughter\, Scout?a young girl on the cusp of adulthood?brings new hope to a neighborhood in turmoil.
X-ALT-DESC;FMTTYPE=text/html:Racial injustice envelops a small-town community in the Deep South. Through courage and compassion\, lawyer Atticus Finch seeks the truth\, and his feisty daughter\, Scout?a young girl on the cusp of adulthood?brings new hope to a neighborhood in turmoil.
LOCATION:Kearney Community Theatre 85 Plaza Boulevard Kearney\, NE 68845
UID:e.1404.8722
SEQUENCE:3
DTSTAMP:20260421T220117Z
URL:https://members.kearneycoc.org/events/details/kearney-community-theatre-presents-to-kill-a-mockingbird-04-21-2016-8722
END:VEVENT

END:VCALENDAR
