BEGIN:VCALENDAR
VERSION:2.0
PRODID:-//ChamberMaster//Event Calendar 2.0//EN
METHOD:PUBLISH
X-PUBLISHED-TTL:P3D
REFRESH-INTERVAL:P3D
CALSCALE:GREGORIAN
BEGIN:VEVENT
DTSTART:20191005T003000Z
DTEND:20191005T020000Z
X-MICROSOFT-CDO-ALLDAYEVENT:FALSE
SUMMARY:Kearney Concert Associaiton-Annie Moses Band
DESCRIPTION:Nashville-based Annie Moses Band is a classical cross-over ensemble of six siblings\, known for their virtuosic string playing\, eclectic vocals and stylistically diverse arrangements. Accolades include 1200+ hours on PBS with an Emmy nomination. Expect to hear Copeland\, Gershwin\, Johnny Cash and other American icons.
X-ALT-DESC;FMTTYPE=text/html:Nashville-based Annie Moses Band is a classical cross-over ensemble of six siblings\, known for their virtuosic string playing\, eclectic vocals and stylistically diverse arrangements. Accolades include 1200+ hours on PBS with an Emmy nomination. Expect to hear Copeland\, Gershwin\, Johnny Cash and other American icons.
LOCATION:Merryman Performing Arts Center 225 W 22nd Street Kearney NE
UID:e.1404.17865
SEQUENCE:3
DTSTAMP:20260425T164155Z
URL:https://members.kearneycoc.org/events/details/kearney-concert-associaiton-annie-moses-band-17865
END:VEVENT

END:VCALENDAR
