BEGIN:VCALENDAR
VERSION:2.0
PRODID:-//ChamberMaster//Event Calendar 2.0//EN
METHOD:PUBLISH
X-PUBLISHED-TTL:P3D
REFRESH-INTERVAL:P3D
CALSCALE:GREGORIAN
BEGIN:VEVENT
DTSTART:20190305T013000Z
DTEND:20190305T030000Z
X-MICROSOFT-CDO-ALLDAYEVENT:FALSE
SUMMARY:Kearney Concert Association-Charlie Albright
DESCRIPTION:American pianist/composer/improviser Charlie Albright is returning to Kearney with his "jaw-dropping technique and virtuosity meshed with a distinctive musicality"-New York Times.  Hailed as "among the most gifted musicians of his generation" with a "dazzling natural keyboard affinity" who "made quite an impression"-Washington Post.
X-ALT-DESC;FMTTYPE=text/html:American pianist/composer/improviser Charlie Albright is returning to Kearney with his &quot\;jaw-dropping technique and virtuosity meshed with a distinctive musicality&quot\;-New York Times.&nbsp\; Hailed as &quot\;among the most gifted musicians of his generation&quot\; with a &quot\;dazzling natural keyboard affinity&quot\; who &quot\;made quite an impression&quot\;-Washington Post.
LOCATION:Merryman Performing Arts 225 W. 22nd St.\, Kearney
UID:e.1404.12620
SEQUENCE:3
DTSTAMP:20260426T033406Z
URL:https://members.kearneycoc.org/events/details/kearney-concert-association-charlie-albright-12620
END:VEVENT

END:VCALENDAR
