BEGIN:VCALENDAR
VERSION:2.0
PRODID:-//ChamberMaster//Event Calendar 2.0//EN
METHOD:PUBLISH
X-PUBLISHED-TTL:P3D
REFRESH-INTERVAL:P3D
CALSCALE:GREGORIAN
BEGIN:VEVENT
DTSTART:20160219T013000Z
DTEND:20160219T033000Z
X-MICROSOFT-CDO-ALLDAYEVENT:FALSE
SUMMARY:Kearney Concert Association - Maniacal4
DESCRIPTION:Maniacal4 is a fabulous group of four great musicians telling one unified\, inspiring musical story after another.  Hailed as "a force to be reckoned with\," this trombone quartet has performed on three continents\, entertaining audiences with a wide range of styles and varied time periods.  Well versed in classical\, jazz\, Latin and rock music\, M4 performs with a "clear\, unified\, uplifting and committed musical vision on par with great chamber ensembles." Individually and collectively\, these trombonists possess the rare combination of technical virtuosity\, music subtlety and a most enjoyable stage presence.
X-ALT-DESC;FMTTYPE=text/html:Maniacal4 is a fabulous group of four great musicians telling one unified\, inspiring musical story after another. &nbsp\;Hailed as &quot\;a force to be reckoned with\,&quot\; this trombone quartet has performed on three continents\, entertaining audiences with a wide range of styles and varied time periods. &nbsp\;Well versed in classical\,&nbsp\;jazz\, Latin and rock music\, M4 performs with a &quot\;clear\, unified\, uplifting and committed musical vision on par with great chamber ensembles.&quot\; Individually&nbsp\;and collectively\, these trombonists possess the rare combination of technical virtuosity\, music subtlety and a most enjoyable stage presence.
LOCATION:Merryman Performing Arts Center
UID:e.1404.6704
SEQUENCE:3
DTSTAMP:20260422T012344Z
URL:https://members.kearneycoc.org/events/details/kearney-concert-association-maniacal4-02-18-2016-6704
END:VEVENT

END:VCALENDAR
