BEGIN:VCALENDAR
VERSION:2.0
PRODID:-//ChamberMaster//Event Calendar 2.0//EN
METHOD:PUBLISH
X-PUBLISHED-TTL:P3D
REFRESH-INTERVAL:P3D
CALSCALE:GREGORIAN
BEGIN:VEVENT
DTSTART:20191110T210000Z
DTEND:20191110T223000Z
X-MICROSOFT-CDO-ALLDAYEVENT:FALSE
SUMMARY:Kearney Concert Association-Nebraska Jazz Orchestra
DESCRIPTION:The Nebraska Jazz Orchestra\, founded in 1975\, is one of the Midwest's premier big bands. Their concerts feature traditional big band compositions by jazz masters such as Woody Herman\, Duke Ellington\, and Count Basie as well as new compositions and arrangements.
X-ALT-DESC;FMTTYPE=text/html:The Nebraska Jazz Orchestra\, founded in 1975\, is one of the Midwest&rsquo\;s premier big bands. Their concerts feature traditional big band compositions by jazz masters such as Woody Herman\, Duke Ellington\, and Count Basie as well as new compositions and arrangements.
LOCATION:Merryman Performing Arts Center 225 W 22nd Street Kearney NE
UID:e.1404.17867
SEQUENCE:3
DTSTAMP:20260425T150501Z
URL:https://members.kearneycoc.org/events/details/kearney-concert-association-nebraska-jazz-orchestra-17867
END:VEVENT

END:VCALENDAR
