BEGIN:VCALENDAR
VERSION:2.0
PRODID:-//ChamberMaster//Event Calendar 2.0//EN
METHOD:PUBLISH
X-PUBLISHED-TTL:P3D
REFRESH-INTERVAL:P3D
CALSCALE:GREGORIAN
BEGIN:VEVENT
DTSTART:20140321T003000Z
DTEND:20140321T023000Z
X-MICROSOFT-CDO-ALLDAYEVENT:FALSE
SUMMARY:Kearney Concert Association "New Century Saxophone Quartet"
DESCRIPTION:Saxophone Quartet that plays ensembles from Back and Mozart to Bernstein and Gershwin. First of its kind to ever win First Prize in the Concert Artists Guild Competition.
X-ALT-DESC;FMTTYPE=text/html:Saxophone Quartet that plays ensembles from Back and Mozart to Bernstein and Gershwin. First of its kind to ever win First Prize in the Concert Artists Guild Competition.
LOCATION:Merryman Performing Arts Center\, 225 W. 22nd Street
UID:e.1404.3360
SEQUENCE:3
DTSTAMP:20260423T164248Z
URL:https://members.kearneycoc.org/events/details/kearney-concert-association-new-century-saxophone-quartet-03-20-2014-3360
END:VEVENT

END:VCALENDAR
