BEGIN:VCALENDAR
VERSION:2.0
PRODID:-//ChamberMaster//Event Calendar 2.0//EN
METHOD:PUBLISH
X-PUBLISHED-TTL:P3D
REFRESH-INTERVAL:P3D
CALSCALE:GREGORIAN
BEGIN:VEVENT
DTSTART:20160430T003000Z
DTEND:20160430T023000Z
X-MICROSOFT-CDO-ALLDAYEVENT:FALSE
SUMMARY:Kearney Concert Association - Salut Salon
DESCRIPTION:Salut Salon is a spectacular quartet from Hamburg\, Germany that knows how\, better than any other chamber ensemble\, to win their audiences not just with virtuosic mastery of their instruments\, but with their instrumental acrobatics\, charm and humor.  They combine beloved classical music with tango\, chansons\, folk and film soundtracks\, all with cabaret-style charm\, effortless flair and instrumental acrobatics.  This group\, with over 19 million You Tube views\, will amaze and surprise.
X-ALT-DESC;FMTTYPE=text/html:Salut Salon is a spectacular quartet from Hamburg\, Germany that knows how\, better than any other chamber ensemble\, to win their audiences not just with virtuosic mastery of their instruments\, but with their instrumental acrobatics\, charm and humor. &nbsp\;They combine beloved classical music with tango\, chansons\, folk and film soundtracks\, all with cabaret-style charm\, effortless flair and instrumental acrobatics. &nbsp\;This group\, with over 19 million You Tube views\, will amaze and surprise.
LOCATION:Merryman Performing Arts Center
UID:e.1404.6706
SEQUENCE:3
DTSTAMP:20260421T220117Z
URL:https://members.kearneycoc.org/events/details/kearney-concert-association-salut-salon-04-29-2016-6706
END:VEVENT

END:VCALENDAR
