BEGIN:VCALENDAR
VERSION:2.0
PRODID:-//ChamberMaster//Event Calendar 2.0//EN
METHOD:PUBLISH
X-PUBLISHED-TTL:P3D
REFRESH-INTERVAL:P3D
CALSCALE:GREGORIAN
BEGIN:VEVENT
DTSTART:20191026T003000Z
DTEND:20191026T020000Z
X-MICROSOFT-CDO-ALLDAYEVENT:FALSE
SUMMARY:Kearney Concert Association-Take 3
DESCRIPTION:Take 3\, comprised of Lindsay Deutsch\, featured violin soloist with Yanni\; Susan Boettger\, piano\; and Lila Yang\, cello bring the refinement of a rigorous classical background and mixes it with rock star charisma. From Billy Joel to Beethoven audiences around the country are being entertained with limitless enthusiasm for great music.
X-ALT-DESC;FMTTYPE=text/html:Take 3\, comprised of Lindsay Deutsch\, featured violin soloist with Yanni\; Susan Boettger\, piano\; and Lila Yang\, cello bring the refinement of a rigorous classical background and mixes it with rock star charisma. From Billy Joel to Beethoven audiences around the country are being entertained with limitless enthusiasm for great music.
LOCATION:Merryman Performing Arts Center 225 W 22nd Street Kearney NE
UID:e.1404.17866
SEQUENCE:3
DTSTAMP:20260425T164004Z
URL:https://members.kearneycoc.org/events/details/kearney-concert-association-take-3-17866
END:VEVENT

END:VCALENDAR
