BEGIN:VCALENDAR
VERSION:2.0
PRODID:-//ChamberMaster//Event Calendar 2.0//EN
METHOD:PUBLISH
X-PUBLISHED-TTL:P3D
REFRESH-INTERVAL:P3D
CALSCALE:GREGORIAN
BEGIN:VEVENT
DTSTART:20151117T013000Z
DTEND:20151117T033000Z
X-MICROSOFT-CDO-ALLDAYEVENT:FALSE
SUMMARY:Kearney Concert Association - The 5 Browns
DESCRIPTION:The 5 Browns are delivering on their dream to "wake up classical music by introducing it to the widest\, largest and most excited audience they can find." This has garnered extensive media coverage ranging from The Tonight Show\, Good Morning America\, Today\, The View\, Oprah\, 60 Minutes\, to their PBS special "The 5 Browns in Concert" which aired on PBS stations throughout the country.  Just as they did on the KCA series in 2008\, these Juilliard graduate siblings will be traveling with their 5 beautiful Steinway pianos on which they will perform a fabulous classical and pops program.  We are so please that these three time #1 Billboard Classical Album artists are returning for an encore performance.
X-ALT-DESC;FMTTYPE=text/html:The 5 Browns are delivering on their dream to &quot\;wake up classical music by introducing it to the widest\, largest and most excited audience they can find.&quot\; This has garnered extensive media coverage ranging from The Tonight Show\, Good Morning America\, Today\, The View\, Oprah\, 60&nbsp\;Minutes\, to their&nbsp\;PBS special &quot\;The 5 Browns in Concert&quot\; which aired on PBS stations throughout the country. &nbsp\;Just as they did on the KCA series in 2008\, these Juilliard graduate siblings will be traveling with their 5 beautiful Steinway pianos on which they will perform a fabulous classical and pops program. &nbsp\;We are so please that these three time #1 Billboard Classical Album artists are returning for an encore performance.
LOCATION:Merryman Performing Arts Center
UID:e.1404.6703
SEQUENCE:3
DTSTAMP:20260422T065026Z
URL:https://members.kearneycoc.org/events/details/kearney-concert-association-the-5-browns-11-16-2015-6703
END:VEVENT

END:VCALENDAR
