BEGIN:VCALENDAR
VERSION:2.0
PRODID:-//ChamberMaster//Event Calendar 2.0//EN
METHOD:PUBLISH
X-PUBLISHED-TTL:P3D
REFRESH-INTERVAL:P3D
CALSCALE:GREGORIAN
BEGIN:VEVENT
DTSTART:20151020T003000Z
DTEND:20151020T023000Z
X-MICROSOFT-CDO-ALLDAYEVENT:FALSE
SUMMARY:Kearney Concert Association - The Four Freshmen
DESCRIPTION:Singing with a harmony uniquely their own\, The Four Freshmen has enamored listeners worldwide\, while gaining recognition as one of the most influential vocal groups of all time.  Since their 1948 debut\, there have been over 75 albums recorded\, 70 top selling singles and 6 Grammy nominations as well as Downbeat's Vocal Group of the Year 7 times.  The faces may have changed over the years\, but the integrity of the sound created by the original members has been meticulously maintained.
X-ALT-DESC;FMTTYPE=text/html:Singing with a harmony uniquely their own\, The Four Freshmen has enamored listeners worldwide\, while gaining recognition as one of the most influential vocal groups of all time. &nbsp\;Since their 1948 debut\, there have been over 75 albums recorded\, 70 top selling singles and 6 Grammy nominations as well as Downbeat&#39\;s Vocal Group of the Year 7 times. &nbsp\;The faces may have changed over the years\, but the integrity of the sound created by the original members has been meticulously maintained.
LOCATION:Merryman Performing Arts Center
UID:e.1404.6702
SEQUENCE:3
DTSTAMP:20260422T084010Z
URL:https://members.kearneycoc.org/events/details/kearney-concert-association-the-four-freshmen-10-19-2015-6702
END:VEVENT

END:VCALENDAR
