BEGIN:VCALENDAR
VERSION:2.0
PRODID:-//ChamberMaster//Event Calendar 2.0//EN
METHOD:PUBLISH
X-PUBLISHED-TTL:P3D
REFRESH-INTERVAL:P3D
CALSCALE:GREGORIAN
BEGIN:VEVENT
DTSTART:20190326T003000Z
DTEND:20190326T020000Z
X-MICROSOFT-CDO-ALLDAYEVENT:FALSE
SUMMARY:Kearney Concert Association-The Jersey Tenors
DESCRIPTION:In the newest Opera/Rock mash-up sensation that blends the opera classics\, rock epics and rooning ballads\, The Jersey Tenors combine for a "powerhouse vocal performance!"  These four talented\, Broadway-credited vocalists bring a vast musical repertoire together in one night of song that honors the sounds of Jersey and beyond.
X-ALT-DESC;FMTTYPE=text/html:In the newest Opera/Rock mash-up sensation that blends the opera classics\, rock epics and rooning ballads\, The Jersey Tenors combine for a &quot\;powerhouse vocal performance!&quot\;&nbsp\; These four talented\, Broadway-credited vocalists bring a vast musical repertoire together in one night of song that honors the sounds of Jersey and beyond.
LOCATION:Merryman Performing Arts 225 W. 22nd St.\, Kearney
UID:e.1404.12621
SEQUENCE:3
DTSTAMP:20260426T033531Z
URL:https://members.kearneycoc.org/events/details/kearney-concert-association-the-jersey-tenors-12621
END:VEVENT

END:VCALENDAR
