BEGIN:VCALENDAR
VERSION:2.0
PRODID:-//ChamberMaster//Event Calendar 2.0//EN
METHOD:PUBLISH
X-PUBLISHED-TTL:P3D
REFRESH-INTERVAL:P3D
CALSCALE:GREGORIAN
BEGIN:VEVENT
DTSTART:20150314T220000Z
DTEND:20150314T230000Z
X-MICROSOFT-CDO-ALLDAYEVENT:FALSE
SUMMARY:Kearney Country Club 100 Year Jubilee Kickoff
DESCRIPTION:5:00-6:00pm Cocktails & Appetizers ~ Dining available at 6:30pm\n\nClub Centennial Activities & Contests to be Announced\n\nNew Club Logo to be Unveiled\n\nPlease feel free to invite guests as potential new members\n\n\n\nClick here for the Kearney Country Club's Calendar of Events
X-ALT-DESC;FMTTYPE=text/html:5:00-6:00pm Cocktails &amp\; Appetizers ~ Dining available at 6:30pm<br />\nClub Centennial Activities &amp\; Contests to be Announced<br />\nNew Club Logo to be Unveiled<br />\nPlease feel free to invite guests as potential new members<br />\n<br />\n<a href="http://cloud.chambermaster.com/userfiles/UserFiles/chambers/1404/File/KCC100YearsCalendarofEvents.pdf">Click here</a>&nbsp\;for the Kearney Country Club&#39\;s Calendar of Events
LOCATION:Kearney Country Club 2800 19th Ave
UID:e.1404.6160
SEQUENCE:3
DTSTAMP:20260422T200556Z
URL:https://members.kearneycoc.org/events/details/kearney-country-club-100-year-jubilee-kickoff-03-14-2015-6160
END:VEVENT

END:VCALENDAR
