BEGIN:VCALENDAR
VERSION:2.0
PRODID:-//ChamberMaster//Event Calendar 2.0//EN
METHOD:PUBLISH
X-PUBLISHED-TTL:P3D
REFRESH-INTERVAL:P3D
CALSCALE:GREGORIAN
BEGIN:VEVENT
DTSTART;VALUE=DATE:20150523
DTEND;VALUE=DATE:20150526
TRANSP:TRANSPARENT
X-MICROSOFT-CDO-ALLDAYEVENT:TRUE
SUMMARY:Kearney Country Club: Memorial Day ~ Party on the Plains
DESCRIPTION:Pool Opens for the Season ~ Saturday\n\nMilitary Wall of Appreciation Display ~ Saturday thru Monday\n\n    Please provide the club a picture of your past and/or present military     personnel from your family.\n\nMovie Night on the Patio ~ Sunday\n\nNebraska Style BBQ Dining ~ Monday\n\n\n\nClick here for the Kearney Country Club's Calendar of Events
X-ALT-DESC;FMTTYPE=text/html:Pool Opens for the Season ~ Saturday<br />\nMilitary Wall of Appreciation Display ~ Saturday thru Monday<br />\n&nbsp\; &nbsp\; Please provide the club a picture of your past and/or present military &nbsp\;&nbsp\;&nbsp\;&nbsp\;personnel from your family.<br />\nMovie Night on the Patio ~ Sunday<br />\nNebraska Style BBQ Dining ~ Monday<br />\n<br />\n<a href="http://cloud.chambermaster.com/userfiles/UserFiles/chambers/1404/File/KCC100YearsCalendarofEvents.pdf">Click here</a> for the Kearney Country Club&#39\;s Calendar of Events
LOCATION:Kearney Country 2800 19th Ave
UID:e.1404.6162
SEQUENCE:3
DTSTAMP:20260422T165433Z
URL:https://members.kearneycoc.org/events/details/kearney-country-club-memorial-day-party-on-the-plains-05-23-2015-6162
END:VEVENT

END:VCALENDAR
