BEGIN:VCALENDAR
VERSION:2.0
PRODID:-//ChamberMaster//Event Calendar 2.0//EN
METHOD:PUBLISH
X-PUBLISHED-TTL:P3D
REFRESH-INTERVAL:P3D
CALSCALE:GREGORIAN
BEGIN:VEVENT
DTSTART;VALUE=DATE:20150715
DTEND;VALUE=DATE:20150720
TRANSP:TRANSPARENT
X-MICROSOFT-CDO-ALLDAYEVENT:TRUE
SUMMARY:Kearney Cruise Nite
DESCRIPTION:Save the date for the 28th Annual Kearney Cruise Nite\, July 15th-19th\, 2015.  For more info\, visit www.cruisenite.org or www.facebook.com/cruisenightkearney
X-ALT-DESC;FMTTYPE=text/html:Save the date for the 28th Annual Kearney Cruise Nite\, July 15th-19th\, 2015. &nbsp\;For more info\, visit www.cruisenite.org or www.facebook.com/cruisenightkearney
LOCATION:Downtown Kearney
UID:e.1404.6488
SEQUENCE:3
DTSTAMP:20260422T132838Z
URL:https://members.kearneycoc.org/events/details/kearney-cruise-nite-07-15-2015-6488
END:VEVENT

END:VCALENDAR
