BEGIN:VCALENDAR
VERSION:2.0
PRODID:-//ChamberMaster//Event Calendar 2.0//EN
METHOD:PUBLISH
X-PUBLISHED-TTL:P3D
REFRESH-INTERVAL:P3D
CALSCALE:GREGORIAN
BEGIN:VEVENT
DTSTART;VALUE=DATE:20130717
DTEND;VALUE=DATE:20130722
TRANSP:TRANSPARENT
X-MICROSOFT-CDO-ALLDAYEVENT:TRUE
SUMMARY:Kearney Cruise Nite
DESCRIPTION:Save the date for the 26th Annual Kearney Cruise Nite\, July 17th-21st\, 2013.  For more info\, visit www.cruisenite.org
X-ALT-DESC;FMTTYPE=text/html:Save the date for the 26th Annual Kearney Cruise Nite\, July 17th-21st\, 2013. &nbsp\;For more info\, visit www.cruisenite.org
LOCATION:
UID:e.1404.2481
SEQUENCE:3
DTSTAMP:20260424T060714Z
URL:https://members.kearneycoc.org/events/details/kearney-cruise-nite-07-17-2013-2481
END:VEVENT

END:VCALENDAR
