BEGIN:VCALENDAR
VERSION:2.0
PRODID:-//ChamberMaster//Event Calendar 2.0//EN
METHOD:PUBLISH
X-PUBLISHED-TTL:P3D
REFRESH-INTERVAL:P3D
CALSCALE:GREGORIAN
BEGIN:VEVENT
DTSTART:20190905T233000Z
DTEND:20190906T003000Z
X-MICROSOFT-CDO-ALLDAYEVENT:FALSE
SUMMARY:Kearney Girl Scout Open House
DESCRIPTION:Unleash Strong! Be a Girl Scout!\n\n\n\nFor all girls in Grades K-12! Free event. Fun for the whole family. STEM activities\, games and crafts.\n\n\n\nUnable to attend? Visit our Kearney office at 2412 Hwy 30 East on Saturday\, Sept. 7th from 10:00 a.m. to 12:00 p.m. and staff will be available to answer questions and help with registration. Questions? Call or text Pat in the Kearney Office\, 308-708-8075. Financial assistance is available.
X-ALT-DESC;FMTTYPE=text/html:Unleash Strong! Be a Girl Scout!<br />\n<br />\nFor all girls in Grades K-12! Free event. Fun for the whole family. STEM activities\, games and crafts.<br />\n<br />\nUnable to attend? Visit our Kearney office at 2412 Hwy 30 East on Saturday\, Sept. 7th from 10:00 a.m. to 12:00 p.m. and staff will be available to answer questions and help with registration. Questions? Call or text Pat in the Kearney Office\, 308-708-8075. Financial assistance is available.&nbsp\;
LOCATION:Harmon Park Activity Center 3100 5th Ave Kearney NE
UID:e.1404.17840
SEQUENCE:3
DTSTAMP:20260425T195548Z
URL:https://members.kearneycoc.org/events/details/kearney-girl-scout-open-house-17840
END:VEVENT

END:VCALENDAR
