BEGIN:VCALENDAR
VERSION:2.0
PRODID:-//ChamberMaster//Event Calendar 2.0//EN
METHOD:PUBLISH
X-PUBLISHED-TTL:P3D
REFRESH-INTERVAL:P3D
CALSCALE:GREGORIAN
BEGIN:VEVENT
DTSTART:20140613T150000Z
DTEND:20140613T220000Z
X-MICROSOFT-CDO-ALLDAYEVENT:FALSE
SUMMARY:Kearney Golf Classic
DESCRIPTION:Join us\, Friday June 13th at Awarii Dunes. Registration will begin at 10AM with a shot gun start at 11:30AM. Don't forget to stay after for our social and the announcement of prizes. This is always a fun event and we will fill up quickly so register your team today!
X-ALT-DESC;FMTTYPE=text/html:<span style="font-size:14px\;"><span style="font-family:tahoma\;">Join us\, Friday June 13th at Awarii Dunes. Registration will begin at 10AM with a shot gun start at 11:30AM. Don&#39\;t forget to stay after for our social and the announcement of prizes. This is always a fun event and we will fill up quickly so register your team today!&nbsp\;</span></span>
LOCATION:Awarii Dunes 592 S Road Axtell\, NE
UID:e.1404.4501
SEQUENCE:3
DTSTAMP:20260423T113732Z
URL:https://members.kearneycoc.org/events/details/kearney-golf-classic-06-13-2014-4501
END:VEVENT

END:VCALENDAR
