BEGIN:VCALENDAR
VERSION:2.0
PRODID:-//ChamberMaster//Event Calendar 2.0//EN
METHOD:PUBLISH
X-PUBLISHED-TTL:P3D
REFRESH-INTERVAL:P3D
CALSCALE:GREGORIAN
BEGIN:VEVENT
DTSTART;VALUE=DATE:20190614
DTEND;VALUE=DATE:20190615
TRANSP:TRANSPARENT
X-MICROSOFT-CDO-ALLDAYEVENT:TRUE
SUMMARY:Kearney Golf Classic
DESCRIPTION:Join us for our Annual Kearney Golf Classic Tournament!
X-ALT-DESC;FMTTYPE=text/html:Join us for our Annual Kearney Golf Classic Tournament!
LOCATION:Kearney Country Club 2800 19th Ave.
UID:e.1404.15448
SEQUENCE:3
DTSTAMP:20260426T003854Z
URL:https://members.kearneycoc.org/events/details/kearney-golf-classic-15448
END:VEVENT

END:VCALENDAR
