BEGIN:VCALENDAR
VERSION:2.0
PRODID:-//ChamberMaster//Event Calendar 2.0//EN
METHOD:PUBLISH
X-PUBLISHED-TTL:P3D
REFRESH-INTERVAL:P3D
CALSCALE:GREGORIAN
BEGIN:VEVENT
DTSTART:20200814T130000Z
DTEND:20200814T220000Z
X-MICROSOFT-CDO-ALLDAYEVENT:FALSE
SUMMARY:Kearney Golf Classic
DESCRIPTION:Join us for our 2020 Kearney Golf Classic\, on Friday\, August 14\, 2020 at Meadowlark Hills Golf Course.\n\nRegistration will start at 8 AM. Shot Gun start at 9:30 AM.
X-ALT-DESC;FMTTYPE=text/html:Join us for our 2020 Kearney Golf Classic\, on Friday\, August 14\, 2020 at Meadowlark Hills Golf Course.<br />\nRegistration will start at 8 AM. Shot Gun start at 9:30 AM.
LOCATION:Meadowlark Hills Golf Course 3300 30th Ave. Kearney\, NE 68845
UID:e.1404.18260
SEQUENCE:3
DTSTAMP:20260425T002021Z
URL:https://members.kearneycoc.org/events/details/kearney-golf-classic-18260
END:VEVENT

END:VCALENDAR
