BEGIN:VCALENDAR
VERSION:2.0
PRODID:-//ChamberMaster//Event Calendar 2.0//EN
METHOD:PUBLISH
X-PUBLISHED-TTL:P3D
REFRESH-INTERVAL:P3D
CALSCALE:GREGORIAN
BEGIN:VEVENT
DTSTART;VALUE=DATE:20210611
DTEND;VALUE=DATE:20210612
TRANSP:TRANSPARENT
X-MICROSOFT-CDO-ALLDAYEVENT:TRUE
SUMMARY:Kearney Golf Classic
DESCRIPTION:Kearney Golf Classic   \n\nFriday\, June 11th
X-ALT-DESC;FMTTYPE=text/html:Kearney Golf Classic&nbsp\; &nbsp\;<br />\nFriday\, June 11th&nbsp\;<br />\n&nbsp\;&nbsp\;&nbsp\;&nbsp\;
LOCATION:Kearney Country Club
UID:e.1404.19228
SEQUENCE:3
DTSTAMP:20260424T060237Z
URL:https://members.kearneycoc.org/events/details/kearney-golf-classic-19228
END:VEVENT

END:VCALENDAR
