BEGIN:VCALENDAR
VERSION:2.0
PRODID:-//ChamberMaster//Event Calendar 2.0//EN
METHOD:PUBLISH
X-PUBLISHED-TTL:P3D
REFRESH-INTERVAL:P3D
CALSCALE:GREGORIAN
BEGIN:VEVENT
DTSTART:20140426T150000Z
DTEND:20140426T210000Z
X-MICROSOFT-CDO-ALLDAYEVENT:FALSE
SUMMARY:Kearney History Harvest
DESCRIPTION:The History Harvest is an open drive to digitize community history. We are seeking YOUR history - letters\, diaries\, photographs\, artifacts\, war memorabilia\, and personal stories - that you'd like to share. No donation necessary\; instead\, a team of students will be on hand to scan and upload images and recordings of all materials to the History Harvest database. This database will then allow your history to be available to the public for research
X-ALT-DESC;FMTTYPE=text/html:The History Harvest is an open drive to digitize community history. We are seeking YOUR history - letters\, diaries\, photographs\, artifacts\, war memorabilia\, and personal stories - that you&#39\;d like to share. No donation necessary\; instead\, a team of students will be on hand to scan and upload images and recordings of all materials to the History Harvest database. This database will then allow your history to be available to the public for research
LOCATION:Kearney Public Library 2020 1st Avenue
UID:e.1404.4695
SEQUENCE:3
DTSTAMP:20260423T145831Z
URL:https://members.kearneycoc.org/events/details/kearney-history-harvest-04-26-2014-4695
END:VEVENT

END:VCALENDAR
