BEGIN:VCALENDAR
VERSION:2.0
PRODID:-//ChamberMaster//Event Calendar 2.0//EN
METHOD:PUBLISH
X-PUBLISHED-TTL:P3D
REFRESH-INTERVAL:P3D
CALSCALE:GREGORIAN
BEGIN:VEVENT
DTSTART;VALUE=DATE:20130111
DTEND;VALUE=DATE:20130114
TRANSP:TRANSPARENT
X-MICROSOFT-CDO-ALLDAYEVENT:TRUE
SUMMARY:Kearney Home and Builders Show
DESCRIPTION:Kearney Home and Builders Show presented by West Central NE Homebuilder's Association
X-ALT-DESC;FMTTYPE=text/html:Kearney Home and Builders Show presented by West Central NE Homebuilder&#39\;s Association
LOCATION:Buffalo County Fairgrounds
UID:e.1404.2224
SEQUENCE:3
DTSTAMP:20260424T174337Z
URL:https://members.kearneycoc.org/events/details/kearney-home-and-builders-show-01-11-2013-2224
END:VEVENT

END:VCALENDAR
