BEGIN:VCALENDAR
VERSION:2.0
PRODID:-//ChamberMaster//Event Calendar 2.0//EN
METHOD:PUBLISH
X-PUBLISHED-TTL:P3D
REFRESH-INTERVAL:P3D
CALSCALE:GREGORIAN
BEGIN:VEVENT
DTSTART:20150425T130000Z
DTEND:20150425T170000Z
X-MICROSOFT-CDO-ALLDAYEVENT:FALSE
SUMMARY:Kearney Jaycees Spring Clean Up
DESCRIPTION:If you would like the Kearney Jaycees to stop by your home an do some Spring Clean Up\, please call (308) 293-0154 or visit our website at www.kearneyjaycees.org for more information. You can also find more information on our Facebook page.
X-ALT-DESC;FMTTYPE=text/html:If you would like the Kearney Jaycees to stop by your home an do some Spring Clean Up\, please call (308) 293-0154 or visit our website at www.kearneyjaycees.org for more information. You can also find more information on our Facebook page.
LOCATION:Kearney\, NE
UID:e.1404.6189
SEQUENCE:3
DTSTAMP:20260422T195505Z
URL:https://members.kearneycoc.org/events/details/kearney-jaycees-spring-clean-up-04-25-2015-6189
END:VEVENT

END:VCALENDAR
