BEGIN:VCALENDAR
VERSION:2.0
PRODID:-//ChamberMaster//Event Calendar 2.0//EN
METHOD:PUBLISH
X-PUBLISHED-TTL:P3D
REFRESH-INTERVAL:P3D
CALSCALE:GREGORIAN
BEGIN:VEVENT
DTSTART:20150718T190000Z
DTEND:20150719T010000Z
X-MICROSOFT-CDO-ALLDAYEVENT:FALSE
SUMMARY:Kearney Jubilee Center Fundraiser
DESCRIPTION:KJC will have a food stand out front and will be selling your choice of Hamburger or Hot Dog\, chips and a drink for $5. All proceeds will go to helping those in need.
X-ALT-DESC;FMTTYPE=text/html:KJC will have a food stand out front and will be selling your choice of Hamburger or Hot Dog\, chips and a drink for $5. All proceeds will go to helping those in need.
LOCATION:2523 Avenue A
UID:e.1404.6490
SEQUENCE:3
DTSTAMP:20260422T132929Z
URL:https://members.kearneycoc.org/events/details/kearney-jubilee-center-fundraiser-07-18-2015-6490
END:VEVENT

END:VCALENDAR
