BEGIN:VCALENDAR
VERSION:2.0
PRODID:-//ChamberMaster//Event Calendar 2.0//EN
METHOD:PUBLISH
X-PUBLISHED-TTL:P3D
REFRESH-INTERVAL:P3D
CALSCALE:GREGORIAN
BEGIN:VEVENT
DTSTART:20160728T220000Z
DTEND:20160729T010000Z
X-MICROSOFT-CDO-ALLDAYEVENT:FALSE
SUMMARY:Kearney Little League All Stars Open House/Silent Auction
DESCRIPTION:Join us for a night of good food and great donation items from local businesses. Lots of BIG auction items will be available for bidding. Stop by\, eat\, drink\, meet the boys and support KLL! More to come about the items available!
X-ALT-DESC;FMTTYPE=text/html:<span style="color: rgb(75\, 79\, 86)\; font-family: helvetica\, arial\, sans-serif\; font-size: 14px\; line-height: 18.76px\; background-color: rgb(255\, 255\, 255)\;">Join us for a night of good food and great donation items from local businesses. Lots of BIG auction items will be available for bidding. Stop by\, eat\, drink\, meet the boys and support KLL! More to come about the items available!</span>
LOCATION:Fanatics Sports Bar & Grill 2021 Central Avenue
UID:e.1404.8938
SEQUENCE:3
DTSTAMP:20260421T184828Z
URL:https://members.kearneycoc.org/events/details/kearney-little-league-all-stars-open-house-silent-auction-07-28-2016-8938
END:VEVENT

END:VCALENDAR
