BEGIN:VCALENDAR
VERSION:2.0
PRODID:-//ChamberMaster//Event Calendar 2.0//EN
METHOD:PUBLISH
X-PUBLISHED-TTL:P3D
REFRESH-INTERVAL:P3D
CALSCALE:GREGORIAN
BEGIN:VEVENT
DTSTART:20190425T220000Z
DTEND:20190426T010000Z
X-MICROSOFT-CDO-ALLDAYEVENT:FALSE
SUMMARY:Kearney Love Local Week: Retail Therapy Thursday
DESCRIPTION:It's Ladies Night! Join us for Kearney Love Local Week's Retail Therapy Thursday!
X-ALT-DESC;FMTTYPE=text/html:It&#39\;s Ladies Night! Join us for Kearney Love Local Week&#39\;s Retail Therapy Thursday!&nbsp\;
LOCATION:TBD
UID:e.1404.15446
SEQUENCE:3
DTSTAMP:20260426T020738Z
URL:https://members.kearneycoc.org/events/details/kearney-love-local-week-retail-therapy-thursday-15446
END:VEVENT

END:VCALENDAR
